BEGIN:VCALENDAR
VERSION:2.0
PRODID:-//wp-events-plugin.com//7.0.5//EN
TZID:America/New_York
X-WR-TIMEZONE:America/New_York
BEGIN:VEVENT
UID:39@mmuuf.org
DTSTART;TZID=America/New_York:20260516T170000
DTEND;TZID=America/New_York:20260516T200000
DTSTAMP:20260330T231651Z
URL:https://mmuuf.org/events/game-night-3/
SUMMARY:Game Night
DESCRIPTION:Join us for another all ages game night. Games and a light dinn
 er will be provided. Feel free to bring a favorite game\, your competitive
  spirit\, and a friend. Donations welcome but not necessary.\n\n\n\n\n
END:VEVENT
BEGIN:VTIMEZONE
TZID:America/New_York
X-LIC-LOCATION:America/New_York
BEGIN:DAYLIGHT
DTSTART:20260308T030000
TZOFFSETFROM:-0500
TZOFFSETTO:-0400
TZNAME:EDT
END:DAYLIGHT
END:VTIMEZONE
END:VCALENDAR